BEGIN:VCALENDAR
VERSION:2.0
PRODID:-//St. John Paul II Catholic School - ECPv6.15.17.1//NONSGML v1.0//EN
CALSCALE:GREGORIAN
METHOD:PUBLISH
X-WR-CALNAME:St. John Paul II Catholic School
X-ORIGINAL-URL:https://johnpaulschoolmn.org
X-WR-CALDESC:Events for St. John Paul II Catholic School
REFRESH-INTERVAL;VALUE=DURATION:PT1H
X-Robots-Tag:noindex
X-PUBLISHED-TTL:PT1H
BEGIN:VTIMEZONE
TZID:America/Chicago
BEGIN:DAYLIGHT
TZOFFSETFROM:-0600
TZOFFSETTO:-0500
TZNAME:CDT
DTSTART:20250309T080000
END:DAYLIGHT
BEGIN:STANDARD
TZOFFSETFROM:-0500
TZOFFSETTO:-0600
TZNAME:CST
DTSTART:20251102T070000
END:STANDARD
BEGIN:DAYLIGHT
TZOFFSETFROM:-0600
TZOFFSETTO:-0500
TZNAME:CDT
DTSTART:20260308T080000
END:DAYLIGHT
BEGIN:STANDARD
TZOFFSETFROM:-0500
TZOFFSETTO:-0600
TZNAME:CST
DTSTART:20261101T070000
END:STANDARD
BEGIN:DAYLIGHT
TZOFFSETFROM:-0600
TZOFFSETTO:-0500
TZNAME:CDT
DTSTART:20270314T080000
END:DAYLIGHT
BEGIN:STANDARD
TZOFFSETFROM:-0500
TZOFFSETTO:-0600
TZNAME:CST
DTSTART:20271107T070000
END:STANDARD
END:VTIMEZONE
BEGIN:VEVENT
DTSTART;TZID=America/Chicago:20260424T141000
DTEND;TZID=America/Chicago:20260424T153000
DTSTAMP:20260423T193107
CREATED:20260327T110104Z
LAST-MODIFIED:20260417T114603Z
UID:10001600-1777039800-1777044600@johnpaulschoolmn.org
SUMMARY:Adventure Club
DESCRIPTION:
URL:https://johnpaulschoolmn.org/event/adventure-club-91/
CATEGORIES:School
END:VEVENT
BEGIN:VEVENT
DTSTART;TZID=America/Chicago:20260426T110000
DTEND;TZID=America/Chicago:20260426T140000
DTSTAMP:20260423T193107
CREATED:20260417T114603Z
LAST-MODIFIED:20260417T114603Z
UID:10001610-1777201200-1777212000@johnpaulschoolmn.org
SUMMARY:JPII Open House
DESCRIPTION:
URL:https://johnpaulschoolmn.org/event/jpii-open-house/
CATEGORIES:School
END:VEVENT
BEGIN:VEVENT
DTSTART;TZID=America/Chicago:20260430T141500
DTEND;TZID=America/Chicago:20260430T153000
DTSTAMP:20260423T193107
CREATED:20260403T111605Z
LAST-MODIFIED:20260417T114603Z
UID:10001601-1777558500-1777563000@johnpaulschoolmn.org
SUMMARY:Chess Club
DESCRIPTION:
URL:https://johnpaulschoolmn.org/event/chess-club-55/
CATEGORIES:School
END:VEVENT
BEGIN:VEVENT
DTSTART;TZID=America/Chicago:20260430T180000
DTEND;TZID=America/Chicago:20260430T200000
DTSTAMP:20260423T193107
CREATED:20260403T111605Z
LAST-MODIFIED:20260417T114603Z
UID:10001602-1777572000-1777579200@johnpaulschoolmn.org
SUMMARY:Spring Arts Showcase
DESCRIPTION:
URL:https://johnpaulschoolmn.org/event/spring-arts-showcase-3/
CATEGORIES:School
END:VEVENT
BEGIN:VEVENT
DTSTART;TZID=America/Chicago:20260501T131000
DTEND;TZID=America/Chicago:20260501T135500
DTSTAMP:20260423T193107
CREATED:20260403T111605Z
LAST-MODIFIED:20260417T114603Z
UID:10001603-1777641000-1777643700@johnpaulschoolmn.org
SUMMARY:Rosary and SAINT Awards
DESCRIPTION:Please join us for our Monthly Rosary and SAINT Awards to pray as a community and celebrate those students that have been nominated for an award this Month.
URL:https://johnpaulschoolmn.org/event/rosary-and-saint-awards-11/
CATEGORIES:School
END:VEVENT
BEGIN:VEVENT
DTSTART;TZID=America/Chicago:20260501T141000
DTEND;TZID=America/Chicago:20260501T153000
DTSTAMP:20260423T193107
CREATED:20260403T111605Z
LAST-MODIFIED:20260417T114603Z
UID:10001604-1777644600-1777649400@johnpaulschoolmn.org
SUMMARY:Adventure Club
DESCRIPTION:
URL:https://johnpaulschoolmn.org/event/adventure-club-92/
CATEGORIES:School
END:VEVENT
BEGIN:VEVENT
DTSTART;TZID=America/Chicago:20260504T073000
DTEND;TZID=America/Chicago:20260504T075000
DTSTAMP:20260423T193107
CREATED:20260410T113103Z
LAST-MODIFIED:20260417T114603Z
UID:10001605-1777879800-1777881000@johnpaulschoolmn.org
SUMMARY:All School Assembly
DESCRIPTION:
URL:https://johnpaulschoolmn.org/event/all-school-assembly-7/
CATEGORIES:School
END:VEVENT
BEGIN:VEVENT
DTSTART;VALUE=DATE:20260505
DTEND;VALUE=DATE:20260506
DTSTAMP:20260423T193107
CREATED:20260417T114604Z
LAST-MODIFIED:20260417T114604Z
UID:10001612-1777939200-1778025599@johnpaulschoolmn.org
SUMMARY:Book Fair
DESCRIPTION:
URL:https://johnpaulschoolmn.org/event/book-fair-2/
CATEGORIES:School
END:VEVENT
BEGIN:VEVENT
DTSTART;VALUE=DATE:20260506
DTEND;VALUE=DATE:20260507
DTSTAMP:20260423T193107
CREATED:20260417T114603Z
LAST-MODIFIED:20260417T114603Z
UID:10001611-1778025600-1778111999@johnpaulschoolmn.org
SUMMARY:Book Fair
DESCRIPTION:
URL:https://johnpaulschoolmn.org/event/book-fair/
CATEGORIES:School
END:VEVENT
BEGIN:VEVENT
DTSTART;TZID=America/Chicago:20260507T141500
DTEND;TZID=America/Chicago:20260507T153000
DTSTAMP:20260423T193107
CREATED:20260410T113103Z
LAST-MODIFIED:20260417T114604Z
UID:10001606-1778163300-1778167800@johnpaulschoolmn.org
SUMMARY:Chess Club
DESCRIPTION:
URL:https://johnpaulschoolmn.org/event/chess-club-56/
CATEGORIES:School
END:VEVENT
BEGIN:VEVENT
DTSTART;TZID=America/Chicago:20260508T141000
DTEND;TZID=America/Chicago:20260508T153000
DTSTAMP:20260423T193107
CREATED:20260410T113103Z
LAST-MODIFIED:20260417T114604Z
UID:10001607-1778249400-1778254200@johnpaulschoolmn.org
SUMMARY:Adventure Club
DESCRIPTION:
URL:https://johnpaulschoolmn.org/event/adventure-club-93/
CATEGORIES:School
END:VEVENT
BEGIN:VEVENT
DTSTART;TZID=America/Chicago:20260509T103000
DTEND;TZID=America/Chicago:20260509T113000
DTSTAMP:20260423T193107
CREATED:20260410T113103Z
LAST-MODIFIED:20260417T114604Z
UID:10001608-1778322600-1778326200@johnpaulschoolmn.org
SUMMARY:First Communion Mass
DESCRIPTION:
URL:https://johnpaulschoolmn.org/event/first-communion-mass/
LOCATION:Holy Cross Catholic Church\, 1621 University Ave NE\, Minneapolis\, MN\, United States
CATEGORIES:School
GEO:45.004422;-93.262994
X-APPLE-STRUCTURED-LOCATION;VALUE=URI;X-ADDRESS=Holy Cross Catholic Church 1621 University Ave NE Minneapolis MN United States;X-APPLE-RADIUS=500;X-TITLE=1621 University Ave NE:geo:-93.262994,45.004422
END:VEVENT
BEGIN:VEVENT
DTSTART;TZID=America/Chicago:20260514T073000
DTEND;TZID=America/Chicago:20260514T083000
DTSTAMP:20260423T193107
CREATED:20260417T114604Z
LAST-MODIFIED:20260417T114604Z
UID:10001613-1778743800-1778747400@johnpaulschoolmn.org
SUMMARY:Parent Advisory Meeting
DESCRIPTION:
URL:https://johnpaulschoolmn.org/event/parent-advisory-meeting-8/
CATEGORIES:School
END:VEVENT
BEGIN:VEVENT
DTSTART;TZID=America/Chicago:20260514T141500
DTEND;TZID=America/Chicago:20260514T153000
DTSTAMP:20260423T193107
CREATED:20260417T114604Z
LAST-MODIFIED:20260417T114604Z
UID:10001614-1778768100-1778772600@johnpaulschoolmn.org
SUMMARY:Chess Club
DESCRIPTION:
URL:https://johnpaulschoolmn.org/event/chess-club-57/
CATEGORIES:School
END:VEVENT
BEGIN:VEVENT
DTSTART;VALUE=DATE:20260515
DTEND;VALUE=DATE:20260518
DTSTAMP:20260423T193107
CREATED:20260417T114604Z
LAST-MODIFIED:20260417T114604Z
UID:10001615-1778803200-1779062399@johnpaulschoolmn.org
SUMMARY:Art a Whirl
DESCRIPTION:
URL:https://johnpaulschoolmn.org/event/art-a-whirl-3/
LOCATION:St. Clement
CATEGORIES:School
END:VEVENT
BEGIN:VEVENT
DTSTART;TZID=America/Chicago:20260515T141000
DTEND;TZID=America/Chicago:20260515T153000
DTSTAMP:20260423T193107
CREATED:20260417T114605Z
LAST-MODIFIED:20260417T114605Z
UID:10001616-1778854200-1778859000@johnpaulschoolmn.org
SUMMARY:Adventure Club
DESCRIPTION:
URL:https://johnpaulschoolmn.org/event/adventure-club-94/
CATEGORIES:School
END:VEVENT
END:VCALENDAR